{
 "currentVersion": 11.4,
 "cimVersion": "3.4.0",
 "serviceDescription": "",
 "mapName": "Aerial Imagery 2015",
 "description": "",
 "copyrightText": "",
 "supportsDynamicLayers": false,
 "layers": [
  {
   "id": 0,
   "name": "Aerial Imagery 2015",
   "parentLayerId": -1,
   "defaultVisibility": true,
   "subLayerIds": null,
   "minScale": 0,
   "maxScale": 0,
   "type": "Raster Layer",
   "supportsDynamicLegends": true
  }
 ],
 "tables": [],
 "spatialReference": {
  "wkid": 103079,
  "latestWkid": 6499,
  "xyTolerance": 0.0032808398950131233,
  "zTolerance": 0.001,
  "mTolerance": 0.001,
  "falseX": -107138600,
  "falseY": -97193800,
  "xyUnits": 3048,
  "falseZ": -100000,
  "zUnits": 10000,
  "falseM": -100000,
  "mUnits": 10000
 },
 "singleFusedMapCache": true,
 "tileInfo": {
  "rows": 256,
  "cols": 256,
  "dpi": 96,
  "format": "Mixed",
  "compressionQuality": 100,
  "origin": {
   "x": -1.0713819264027426E8,
   "y": 1.1550296244102809E8
  },
  "spatialReference": {
   "wkid": 103079,
   "latestWkid": 6499,
   "xyTolerance": 0.0032808398950131233,
   "zTolerance": 0.001,
   "mTolerance": 0.001,
   "falseX": -107138600,
   "falseY": -97193800,
   "xyUnits": 3048,
   "falseZ": -100000,
   "zUnits": 10000,
   "falseM": -100000,
   "mUnits": 10000
  },
  "lods": [
   {
    "level": 0,
    "resolution": 939543.3767213027,
    "scale": 1.0823539699829407E9
   },
   {
    "level": 1,
    "resolution": 469771.6883606514,
    "scale": 5.411769849914703E8
   },
   {
    "level": 2,
    "resolution": 234885.8441803257,
    "scale": 2.7058849249573517E8
   },
   {
    "level": 3,
    "resolution": 117442.92209016284,
    "scale": 1.3529424624786758E8
   },
   {
    "level": 4,
    "resolution": 58721.46104508142,
    "scale": 6.764712312393379E7
   },
   {
    "level": 5,
    "resolution": 29360.73052254071,
    "scale": 3.3823561561966896E7
   },
   {
    "level": 6,
    "resolution": 14680.365261270355,
    "scale": 1.6911780780983448E7
   },
   {
    "level": 7,
    "resolution": 7340.182630635178,
    "scale": 8455890.390491724
   },
   {
    "level": 8,
    "resolution": 3670.091315317589,
    "scale": 4227945.195245862
   },
   {
    "level": 9,
    "resolution": 1835.0456576587944,
    "scale": 2113972.597622931
   },
   {
    "level": 10,
    "resolution": 917.5228288293972,
    "scale": 1056986.2988114655
   },
   {
    "level": 11,
    "resolution": 458.7614144146986,
    "scale": 528493.1494057328
   },
   {
    "level": 12,
    "resolution": 229.3807072073493,
    "scale": 264246.5747028664
   },
   {
    "level": 13,
    "resolution": 114.69035360367465,
    "scale": 132123.2873514332
   },
   {
    "level": 14,
    "resolution": 57.345176801837326,
    "scale": 66061.6436757166
   },
   {
    "level": 15,
    "resolution": 28.672588400918663,
    "scale": 33030.8218378583
   },
   {
    "level": 16,
    "resolution": 14.336294200459331,
    "scale": 16515.41091892915
   },
   {
    "level": 17,
    "resolution": 7.168147100229666,
    "scale": 8257.705459464574
   },
   {
    "level": 18,
    "resolution": 3.584073550114833,
    "scale": 4128.852729732287
   },
   {
    "level": 19,
    "resolution": 1.7920367750574164,
    "scale": 2064.4263648661436
   },
   {
    "level": 20,
    "resolution": 0.8960183875287082,
    "scale": 1032.2131824330718
   },
   {
    "level": 21,
    "resolution": 0.4480091937643541,
    "scale": 516.1065912165359
   },
   {
    "level": 22,
    "resolution": 0.22400459688217705,
    "scale": 258.05329560826794
   },
   {
    "level": 23,
    "resolution": 0.11200229844108853,
    "scale": 129.02664780413397
   }
  ]
 },
 "storageInfo": {
  "storageFormat": "esriMapCacheStorageModeCompactV2",
  "packetSize": 128
 },
 "initialExtent": {
  "xmin": 1.305254184668322E7,
  "ymin": 452043.45986548654,
  "xmax": 1.3056076098906495E7,
  "ymax": 453550.2473510636,
  "spatialReference": {
   "wkid": 103079,
   "latestWkid": 6499,
   "xyTolerance": 0.0032808398950131233,
   "zTolerance": 0.001,
   "mTolerance": 0.001,
   "falseX": -107138600,
   "falseY": -97193800,
   "xyUnits": 3048,
   "falseZ": -100000,
   "zUnits": 10000,
   "falseM": -100000,
   "mUnits": 10000
  }
 },
 "fullExtent": {
  "xmin": 1.30257264921761E7,
  "ymin": 428593.4837414025,
  "xmax": 1.3060363992187694E7,
  "ymax": 464030.4837531833,
  "spatialReference": {
   "wkid": 103079,
   "latestWkid": 6499,
   "xyTolerance": 0.0032808398950131233,
   "zTolerance": 0.001,
   "mTolerance": 0.001,
   "falseX": -107138600,
   "falseY": -97193800,
   "xyUnits": 3048,
   "falseZ": -100000,
   "zUnits": 10000,
   "falseM": -100000,
   "mUnits": 10000
  }
 },
 "datesInUnknownTimezone": false,
 "units": "esriFeet",
 "supportedImageFormatTypes": "PNG32,PNG24,PNG,JPG,DIB,TIFF,EMF,PS,PDF,GIF,SVG,SVGZ,BMP",
 "documentInfo": {
  "Title": "Map",
  "Author": "",
  "Comments": "",
  "Subject": "",
  "Category": "",
  "Version": "3.4.0",
  "AntialiasingMode": "Fast",
  "TextAntialiasingMode": "Force",
  "Keywords": ""
 },
 "supportsQueryDomains": true,
 "supportedQueryFormats": "JSON, geoJSON, PBF",
 "referenceScale": 0.0,
 "datumTransformations": [
  {
   "geoTransforms": [
    {
     "wkid": 108363,
     "latestWkid": 108363,
     "transformForward": true,
     "name": "WGS_1984_(ITRF08)_To_NAD_1983_2011"
    }
   ]
  },
  {
   "geoTransforms": [
    {
     "wkid": 108363,
     "latestWkid": 108363,
     "transformForward": false,
     "name": "WGS_1984_(ITRF08)_To_NAD_1983_2011"
    }
   ]
  },
  {
   "geoTransforms": [
    {
     "wkid": 108190,
     "latestWkid": 108190,
     "transformForward": false,
     "name": "WGS_1984_(ITRF00)_To_NAD_1983"
    },
    {
     "wkid": 108363,
     "latestWkid": 108363,
     "transformForward": true,
     "name": "WGS_1984_(ITRF08)_To_NAD_1983_2011"
    }
   ]
  },
  {
   "geoTransforms": [
    {
     "wkid": 108363,
     "latestWkid": 108363,
     "transformForward": false,
     "name": "WGS_1984_(ITRF08)_To_NAD_1983_2011"
    },
    {
     "wkid": 108190,
     "latestWkid": 108190,
     "transformForward": true,
     "name": "WGS_1984_(ITRF00)_To_NAD_1983"
    }
   ]
  }
 ],
 "supportsDatumTransformation": true,
 "archivingInfo": {
  "supportsHistoricMoment": false
 },
 "supportsClipping": true,
 "supportsSpatialFilter": true,
 "supportsTimeRelation": true,
 "supportsQueryDataElements": true,
 "mapUnits": {
  "uwkid": 9002
 },
 "maxSelectionCount": 2000,
 "maxRecordCount": 1000,
 "maxImageHeight": 4096,
 "maxImageWidth": 4096,
 "capabilities": "TilesOnly,Tilemap",
 "minScale": 132123.2873514332,
 "maxScale": 1032.2131824330718,
 "exportTilesAllowed": false,
 "maxExportTilesCount": 100000,
 "minLOD": 13,
 "maxLOD": 20,
 "supportedExtensions": "",
 "serviceItemId": "30b10334c6d749cfa4888eb9a15b3eec"
}
